BEGIN:VCALENDAR
VERSION:2.0
PRODID:-//91.250.85.81//NONSGML kigkonsult.se iCalcreator 2.24.2//
X-WR-CALNAME:FWP
BEGIN:VEVENT
UID:20260421T134958UTC-2772b59360@91.250.85.81
DTSTAMP:20260421T134958Z
DESCRIPTION:NIS-2-Readiness – Regulierung verstehen\, Umsetzung gestalten
DTSTART;VALUE=DATE:20260505
DTEND;VALUE=DATE:20260506
LOCATION:POSTGARAGE Arena\, Hintere Achmühlerstraße 1b\, 6850 Dornbirn
SUMMARY:NIS-2-Readiness – Regulierung verstehen\, Umsetzung gestalten
END:VEVENT
END:VCALENDAR
