BEGIN:VCALENDAR
VERSION:2.0
PRODID:-//91.250.85.81//NONSGML kigkonsult.se iCalcreator 2.24.2//
X-WR-CALNAME:FWP
BEGIN:VEVENT
UID:20260420T191343UTC-938190733d@91.250.85.81
DTSTAMP:20260420T191343Z
DESCRIPTION:USA - Recht & Vertragsgestaltung bei Export & Vertriebsaufbau
DTSTART;VALUE=DATE:20261125
DTEND;VALUE=DATE:20261126
LOCATION:Haus der Bauwirtschaft - Kleiner Saal\, Schaumburgergasse 20\, 104
 0 Wien
SUMMARY:USA - Recht & Vertragsgestaltung bei Export & Vertriebsaufbau
END:VEVENT
END:VCALENDAR
