BEGIN:VCALENDAR
VERSION:2.0
PRODID:-//91.250.85.81//NONSGML kigkonsult.se iCalcreator 2.24.2//
X-WR-CALNAME:FWP
BEGIN:VEVENT
UID:20260425T204627UTC-066222dce4@91.250.85.81
DTSTAMP:20260425T204627Z
DESCRIPTION:Update Tiroler Raumordnung & Projektentwicklung
DTSTART;VALUE=DATE:20260504
DTEND;VALUE=DATE:20260505
LOCATION:Innsbruck
SUMMARY:Update Tiroler Raumordnung & Projektentwicklung
END:VEVENT
END:VCALENDAR
