BEGIN:VCALENDAR
VERSION:2.0
PRODID:-//91.250.85.81//NONSGML kigkonsult.se iCalcreator 2.24.2//
X-WR-CALNAME:FWP
BEGIN:VEVENT
UID:20260420T164508UTC-56465bc1c0@91.250.85.81
DTSTAMP:20260420T164508Z
DESCRIPTION:Produkthaftung in den USA
DTSTART;TZID="+00:00":20261111T000000
DTEND;TZID="+00:00":20261112T235900
LOCATION:Online
SUMMARY:Produkthaftung in den USA
END:VEVENT
END:VCALENDAR
