BEGIN:VCALENDAR
VERSION:2.0
PRODID:-//91.250.85.81//NONSGML kigkonsult.se iCalcreator 2.24.2//
X-WR-CALNAME:FWP
BEGIN:VEVENT
UID:20260420T165810UTC-71456301a6@91.250.85.81
DTSTAMP:20260420T165810Z
DESCRIPTION:Gerichtsverfahren im Common Law - Fluch oder Segen?
DTSTART;VALUE=DATE:20270311
DTEND;VALUE=DATE:20270312
LOCATION:Wien
SUMMARY:Gerichtsverfahren im Common Law - Fluch oder Segen?
END:VEVENT
END:VCALENDAR
