BEGIN:VCALENDAR
VERSION:2.0
PRODID:-//91.250.85.81//NONSGML kigkonsult.se iCalcreator 2.24.2//
X-WR-CALNAME:FWP
BEGIN:VEVENT
UID:20260420T163720UTC-24067d3da1@91.250.85.81
DTSTAMP:20260420T163720Z
DESCRIPTION:Optimizing import and export contracts in English
DTSTART;TZID="+00:00":20261118T000000
DTEND;TZID="+00:00":20261119T235900
LOCATION:Meetingplattform Zoom
SUMMARY:Optimizing import and export contracts in English
END:VEVENT
END:VCALENDAR
