BEGIN:VCALENDAR
VERSION:2.0
PRODID:-//91.250.85.81//NONSGML kigkonsult.se iCalcreator 2.24.2//
X-WR-CALNAME:FWP
BEGIN:VEVENT
UID:20260420T164405UTC-4013d1ee71@91.250.85.81
DTSTAMP:20260420T164405Z
DESCRIPTION:US Amerikanisches Recht
DTSTART;VALUE=DATE:20261022
DTEND;VALUE=DATE:20261023
LOCATION:Haus der Bauwirtschaft - Kleiner Saal\, Schaumburgergasse 20\, 104
 0 Wien
SUMMARY:US Amerikanisches Recht
END:VEVENT
END:VCALENDAR
