BEGIN:VCALENDAR
VERSION:2.0
PRODID:-//91.250.85.81//NONSGML kigkonsult.se iCalcreator 2.24.2//
X-WR-CALNAME:FWP
BEGIN:VEVENT
UID:20260420T164052UTC-92550e8f57@91.250.85.81
DTSTAMP:20260420T164052Z
DESCRIPTION:US Amerikanisches Recht
DTSTART;TZID="+00:00":20260624T000000
DTEND;TZID="+00:00":20260626T235900
LOCATION:Meetingplattform Zoom
SUMMARY:US Amerikanisches Recht
END:VEVENT
END:VCALENDAR
