BEGIN:VCALENDAR
VERSION:2.0
PRODID:-//91.250.85.81//NONSGML kigkonsult.se iCalcreator 2.24.2//
X-WR-CALNAME:FWP
BEGIN:VEVENT
UID:20260420T165228UTC-17602b5c58@91.250.85.81
DTSTAMP:20260420T165228Z
DESCRIPTION:Service- und Dienstleistungsverträge bei internationalen Projek
 ten
DTSTART;VALUE=DATE:20260623
DTEND;VALUE=DATE:20260624
LOCATION:Haus der Bauwirtschaft - Kleiner Saal\, Schaumburgergasse 20\, 104
 0 Wien
SUMMARY:Service- und Dienstleistungsverträge bei internationalen Projekten
END:VEVENT
END:VCALENDAR
