BEGIN:VCALENDAR
VERSION:2.0
PRODID:-//91.250.85.81//NONSGML kigkonsult.se iCalcreator 2.24.2//
X-WR-CALNAME:FWP
BEGIN:VEVENT
UID:20260420T163446UTC-615786a504@91.250.85.81
DTSTAMP:20260420T163446Z
DESCRIPTION:International M&A
DTSTART;VALUE=DATE:20260618
DTEND;VALUE=DATE:20260619
LOCATION:ARS Seminarzentrum · Schallautzerstraße 4\, 1010 Wien oder Online
SUMMARY:International M&A
END:VEVENT
END:VCALENDAR
