BEGIN:VCALENDAR
VERSION:2.0
PRODID:-//91.250.85.81//NONSGML kigkonsult.se iCalcreator 2.24.2//
X-WR-CALNAME:FWP
BEGIN:VEVENT
UID:20260420T164118UTC-43755d8248@91.250.85.81
DTSTAMP:20260420T164118Z
DESCRIPTION:Internationale Joint Ventures
DTSTART;VALUE=DATE:20260520
DTEND;VALUE=DATE:20260521
LOCATION:Haus der Bauwirtschaft - Kleiner Saal\, Schaumburgergasse 20\, 104
 0 Wien
SUMMARY:Internationale Joint Ventures
END:VEVENT
END:VCALENDAR
