BEGIN:VCALENDAR
VERSION:2.0
PRODID:-//91.250.85.81//NONSGML kigkonsult.se iCalcreator 2.24.2//
X-WR-CALNAME:FWP
BEGIN:VEVENT
UID:20260420T164118UTC-06430d0fd1@91.250.85.81
DTSTAMP:20260420T164118Z
DESCRIPTION:Optimizing import and export contracts in English
DTSTART;VALUE=DATE:20260506
DTEND;VALUE=DATE:20260507
LOCATION:Haus der Bauwirtschaft - Kleiner Saal\, Schaumburgergasse 20\, 104
 0 Wien
SUMMARY:Optimizing import and export contracts in English
END:VEVENT
END:VCALENDAR
