BEGIN:VCALENDAR
VERSION:2.0
PRODID:-//91.250.85.81//NONSGML kigkonsult.se iCalcreator 2.24.2//
X-WR-CALNAME:FWP
BEGIN:VEVENT
UID:20260422T041940UTC-904592df5b@91.250.85.81
DTSTAMP:20260422T041940Z
DESCRIPTION:EIA Amendment 2022
DTSTART;VALUE=DATE:20221207
DTEND;VALUE=DATE:20221208
LOCATION:Webinar\, Linde Verlag
SUMMARY:EIA Amendment 2022
END:VEVENT
END:VCALENDAR
